Workbook
Name CRS: [1]Params!$A$2:$A$4
Name NCCHighways: #REF!
Name NCCHighways: #REF!
Name NCCHighways: #REF!
Name NCCHighways: #REF!
Name NCCHighways: #REF!
Name NCCHighways: #REF!
Name NCCHighways: #REF!
Name NCCHighways: 'Design Criteria 7'!$J$2:$J$44
Name NCCHighways: 'Design Criteria 8'!$J$2:$J$44
Name NCCHighways: 'Env Health Crit 12'!$J$2:$J$44
Name NCCHighways: 'Env Health Crit 13'!$N$2:$N$44
Name NCCHighways: 'Env Health Crit 14'!$J$2:$J$44
Name NCCHighways: 'Env Health Crit 4'!$J$2:$J$44
Name NCCHighways: #REF!
Name NCCHighways: 'NBRC Crit 11'!$J$2:$J$44
Name NCCHighways: 'NCC Archaeology Crit 10'!$J$2:$J$44
Name NCCHighways: 'NCC Flood Crit 6'!$J$3:$J$45
Name NCCHighways: 'NCC Highways Criteria 3'!$K$2:$K$44
Name NCCHighways: #REF!
Name OwnershipStatus: [1]Params!$C$2:$C$4
Name PlanningStatus: [1]Params!$B$2:$B$4
Name test: #REF!
Name test: #REF!
Name test: #REF!
Name test: #REF!
Name test: #REF!
Name test: #REF!
Name test: #REF!
Name tt: #REF!
Name tt: #REF!
Name tt: #REF!
Name tt: #REF!
Name tt: #REF!

Sheet Sheet1
A1: BFR_REF | B1: SITE_NAME | C1: GEOX | D1: GEOY
A2: BFR C2 | B2: Site west of | C2: 489847.18 | D2: 288306.96
A3: BFR C3 | B3: Corus Tube Works | C3: 490981.78 | D3: 290125.93
A4: BFR C4 | B4: British American Tobacco Land | C4: 486748.36 | D4: 285442.91
A5: BFR C5 | B5: Site near | C5: 488215 | D5: 290959.24
A6: BFR C6 | B6: Studfall Junior School | C6: 487725.29 | D6: 289759.82
A7: BFR C7 | B7: British American Tobacco Land | C7: 486484.98 | D7: 285389.91
A8: BFR C8 | B8: North of Headway, | C8: 486065.03 | D8: 285646.69
A9: BFR C9 | B9: ex depot & community centre | C9: 487924.75 | D9: 289631.75
A10: BFR C10 | B10: BUILDERS YARD AT REAR OF GARDEN CENTRE | C10: 487928.98 | D10: 290575.57
A11: BFR C11 | B11: Land north of | C11: 489170.38 | D11: 291096.61
A12: BFR C12 | B12: Universal Salvage site, | C12: 489694.22 | D12: 291486.51
A13: BFR C14 | B13: Universal Salvage site, | C13: 489619.18 | D13: 291362.19
... A73: BFR E18 | B73: Windmill Snooker Club | C73: 494986.63 | D73: 266787.16
A74: BFR E19 | B74: 30 | C74: 494265.71 | D74: 270566.36
A75: BFR E20 | B75: Land to the west of the Car Park at) Ferrers School | C75: 496299.48 | D75: 268313.34
A76: BFR E21 | B76: Youth Centre/Public Car Park and land to rear of | C76: 495306.52 | D76: 266968.68
A77: BFR E22 | B77: 80 (SELA E17) | C77: 495327.55 | D77: 270848.83
A78: BFR E24 | B78: Factory | C78: 495893.45 | D78: 267397.02
A79: BFR E25 | B79: (Car Park Opposite (east) Imperial Court) | C79: 495594.42 | D79: 266911.89
A80: BFR E27 | B80: Telephone Exchange, Drill Hall, Tyrells, Factory Shop, Warehouse and Abbotts Dairy | C80: 495878.54 | D80: 267035.29
A81: BFR E28 | B81: Splash Leisure Pool, 64 (SELA E9) | C81: 495546.74 | D81: 267024.03
A82: BFR E29 | B82: Bridge Street / Midland Road | C82: 499338.84 | D82: 278565.88
A83: BFR E30 | B83: Rushden Indoor Bowling Club, 144 (adj. SELA E27) | C83: 494896.01 | D83: 268003.81
A84: BFR E31 | B84: The Charles Parker Building/IIB House/Atlanta House | C84: 496242.45 | D84: 268628.83
A85: BFR E32 | B85: The Pembleton Centre, HE, Car Park and Recycling Centre (SELA E19) | C85: 494963.14 | D85: 266686
A86: BFR E33 | B86: Land south of Braunstno Howe | C86: 504245.17 | D86: 288001.71
... A110: BFR E60 | B110: ABBOT HOUSE | C110: 503891.76 | D110: 288491.23
A111: BFR E61 | B111: 21 | C111: 498355.3 | D111: 275255.33
A112: BFR E62 | B112: STORAGE DEPOT | C112: 499257.09 | D112: 267424.11
A113: BFR E63 | B113: LAND BETWEEN PROSPECT AVENUE AND SHIRLEY ROAD | C113: 495995.27 | D113: 267557.24
A114: BFR E64 | B114: FORMER PEMBERTON SCHOOL | C114: 495078.7 | D114: 266695.84
A115: BFR E68 | B115: 1 | C115: 499067.97 | D115: 272032.61
A116: BFR W1 | B116: LAND ADJACENT CHRISTCHURCH HOUSE | C116: 490388.23 | D116: 267361.07
A117: BFR W2 | B117: 53 TO 55 | C117: 489676.88 | D117: 270064.79
A118: BFR W3 | B118: Land to the rear of The Swan Public House | C118: 485097.19 | D118: 263696.52
A119: BFR W4 | B119: Land surrounding | C119: 485763.6 | D119: 264621.59
A120: BFR W5 | B120: 21c-21d | C120: 491646.19 | D120: 272163.42
A121: BFR W6 | B121: land surrounding Parsons Hall | C121: 492708.18 | D121: 266103.33
A122: BFR W7 | B122: Former Dr. Martens Factory | C122: 490694.17 | D122: 262895.2
...

Sheet Tab Directory
A1: 1. Link to Flow Chart
A2: 2. Discounted Sites
A3: 3. Link to Assessment Criteria
A4: 4. Register of Shortlisted Sites
A5: 5. Shortlised Site Details
A6: 6.Discounted Shortlisted Sites
A7: 7.Site Assessment Summaries
A8: 8. Link to Map Layer

Sheet 1.Link to Flow Chart
A1: Link to Flow Chart against which the long list of sites have been assessed: | B1: http://www.nnjpu.org.uk/publications/docdetail.asp?docid=1578
A3: Notes on the Flow Chart and Site Assessment Process:
A4: The NNJPU devised a Flow Chart by way of sieving an initial long list of potential sites and discounting those sites considered unsuitable for residential development in relation to national and local policy considerations. This Flow Chart is available for viewing via the above weblink. Those sites assessed, and subsequently discounted, through this process (namely Stages 1 - 7 of the flow chart) are outlined in Tab 2 (Discounted Sites) tab of this Register for transparency. Those sites passing these initial tests (and which are not already allocated/permissioned for housing development) were put forward for assessment relative to the locally devised Assessment Criteria (available via Tab 3 - Link to Assessment Criteria of this workbook). The resultant outputs of this process are available within Tab 6 (Shortlisted Site Assessments) of this workbook and also in site summary form via Tab 7 (Site Assessment Summaries). A 'red' score in relation to these criteria flags that a notable constraint has been identified on site which would need to be addressed in any future proposals for development. For the purpose of clarity, Flow Chart Stage 9 (Is there a reasonable prospect that the site will be available for development within 10 years, and that it could be viably developed?) is linked to Assessment Criteria 16 ('Availability') and has only been applied to those sites without an existing planning permission/allocation for housing use. The Assessment scorings in this respect have been derived from a combination of local knowledge about the site and a Land Registry ownership search on the 14 'non-consented' sites within the overall shortlist.

Sheet 2.Discounted Sites
A1: JPU | B1: Mandatory | C1: Mandatory | D1: Optional | E1: JPU | F1: JPU | G1: JPU | H1: Optional | I1: Mandatory | J1: Mandatory | K1: Mandatory | L1: Mandatory | M1: Mandatory | N1: Optional | O1: Optional | P1: Mandatory | Q1: Optional | R1: Mandatory | S1: Mandatory | T1: Optional | V1: Optional | W1: Mandatory | X1: Mandatory | Y1: Mandatory | Z1: Mandatory
A2: The following list denotes those sites assessed and considered to fail the tests of suitability relative to the Flow Chart outlined on Tab 1 of this workbook. The reasoning behind why each site has been discounted is available at Column V for clarity.
A4: Entry No. | B4: SiteReference | C4: SiteName | D4: SiteAddress | E4: Setttlement | F4: Postcode | G4: Local Authority Area | H4: UPRN | I4: CoordinateReferenceSystem | J4: GeoX | K4: GeoY | L4: Hectares | M4: PlanningStatus | N4: PlanningHistory | O4: Constraints | P4: OwnershipStatus | Q4: Owners | R4: HousingEstimate | S4: MinHomes | T4: Events | U4: Updated JPU | V4: Notes | W4: OrganisationURI | X4: OrganisationLabel | Y4: FirstAddedDate | Z4: LastUpdatedDate
A5: 1 | B5: BFR C2 | C5: Site west of | D5: Geddington Rd | E5: Corby | F5: NN18 8AN | G5: Corby Borough Council | H5: 10024041313 | I5: OSGB36 | J5: =VLOOKUP(B5,Sheet1!A$2:C$150,3,FALSE) -> 489847.18 | K5: =VLOOKUP(B5,Sheet1!A$2:D$150,4,FALSE) -> 288306.96 | L5: 11.8467 | M5: Permissioned | N5: Site is in current use as a Gefco car storage facility. | U5: Y? | V5: Site is in current use as a Gefco car storage facility and has been discounted for further assessment on this basis. | W5: http://opendatacommunities.org/id/district-council/corby | X5: Corby Borough Council | Y5: 42551 | Z5: 42551
A6: 2 | B6: BFR C3 | C6: Corus Tube Works | E6: Corby | F6: NN17 5XZ | G6: Corby Borough Council | H6: 10006866519 | I6: OSGB36 | J6: =VLOOKUP(B6,Sheet1!A$2:C$150,3,FALSE) -> 490981.78 | K6: =VLOOKUP(B6,Sheet1!A$2:D$150,4,FALSE) -> 290125.93 | L6: 9.48546 | M6: Not Permissioned | N6: Site previously assessed in SHLAA as site 68 | U6: Y | V6: Located within the boundary of the Corus Steel works. Wholly enveloped by industry. Not considered a suitable location for residential development and discounted for further assessment/shortlist on this basis. | W6: http://opendatacommunities.org/id/district-council/corby | X6: Corby Borough Council | Y6: 42551 | Z6: 42551
A7: 3 | B7: BFR C4 | C7: British American Tobacco Land | E7: Corby | F7: NN18 8HT | G7: Corby Borough Council | H7: 10006861291 | I7: OSGB36 | J7: =VLOOKUP(B7,Sheet1!A$2:C$150,3,FALSE) -> 486748.36 | K7: =VLOOKUP(B7,Sheet1!A$2:D$150,4,FALSE) -> 285442.91 | L7: 2.78088 | M7: Not Permissioned | P7: Not in Public Ownership | U7: Y | V7: Located within the boundary of the British American Tobacco works and envelopes a factory on site. Not considered a suitable location for residential development and discounted for further assessment/shortlist on this basis. | W7: http://opendatacommunities.org/id/district-council/corby | X7: Corby Borough Council | Y7: 42551 | Z7: 42551
A8: 4 | B8: BFR C5 | C8: Site near | D8: Gretton Brook Road | E8: Corby | F8: NN17 4DU | G8: Corby Borough Council | H8: 10024041236 | I8: OSGB36 | J8: =VLOOKUP(B8,Sheet1!A$2:C$150,3,FALSE) -> 488215 | K8: =VLOOKUP(B8,Sheet1!A$2:D$150,4,FALSE) -> 290959.24 | L8: 2.15029 | M8: Not Permissioned | U8: Y | V8: Located adjacent to indsutrial premises within the Earlstrees Industrial estate. Not considered a suitable location for residential development and discounted for further assessment/shortlist on this basis. | W8: http://opendatacommunities.org/id/district-council/corby | X8: Corby Borough Council | Y8: 42551 | Z8: 42551
A9: 5 | B9: BFR C6 | C9: Studfall Junior School | D9: Shakespeare Way | E9: Corby | F9: NN17 2NB | G9: Corby Borough Council | H9: 100032145851 | I9: OSGB36 | J9: =VLOOKUP(B9,Sheet1!A$2:C$150,3,FALSE) -> 487725.29 | K9: =VLOOKUP(B9,Sheet1!A$2:D$150,4,FALSE) -> 289759.82 | L9: 2.02593 | M9: Not Permissioned | P9: Public Ownership | Q9: Northamptonshire County Council | U9: Y | V9: Site encompasses Studfall Junior School buildings and curtilage. School is in active use. Site has been discounted for further assessment/shortlist on this basis. | W9: http://opendatacommunities.org/id/district-council/corby | X9: Corby Borough Council | Y9: 42551 | Z9: 42551
A10: 6 | B10: BFR C7 | C10: British American Tobacco Land | D10: Headway | E10: Corby | F10: NN18 8FT | G10: Corby Borough Council | H10: 10008565610 | I10: OSGB36 | J10: =VLOOKUP(B10,Sheet1!A$2:C$150,3,FALSE) -> 486484.98 | K10: =VLOOKUP(B10,Sheet1!A$2:D$150,4,FALSE) -> 285389.91 | L10: 1.78763 | M10: Not Permissioned | P10: Not in Public Ownership | U10: Y | V10: Located within the boundary of the British American Tobacco works and envelopes a factory on site. Not considered a suitable location for residential development and discounted for further assessment/shortlist on this basis. | W10: http://opendatacommunities.org/id/district-council/corby | X10: Corby Borough Council | Y10: 42551 | Z10: 42551
A11: 7 | B11: BFR C8 | C11: North of Headway | D11: Sedge Close | E11: Corby | F11: NN18 9NF | G11: Corby Borough Council | H11: 100032146460 | I11: OSGB36 | J11: =VLOOKUP(B11,Sheet1!A$2:C$150,3,FALSE) -> 486065.03 | K11: =VLOOKUP(B11,Sheet1!A$2:D$150,4,FALSE) -> 285646.69 | L11: 3.76059 | M11: Not Permissioned | U11: Y | V11: Site located on the Saxon Way West Industrial estate and surrounded by industrial premises. Not considered a suitable location for residential development and discounted for further assessment/shortlist on this basis. | W11: http://opendatacommunities.org/id/district-council/corby | X11: Corby Borough Council | Y11: 42551 | Z11: 42551
A12: 8 | B12: BFR C9 | C12: 14 Darley Dale Road, | D12: Off Studfall Avenue | E12: Corby | F12: NN17 1LL | G12: Corby Borough Council | H12: 100030980272 | I12: OSGB36 | J12: =VLOOKUP(B12,Sheet1!A$2:C$150,3,FALSE) -> 487924.75 | K12: =VLOOKUP(B12,Sheet1!A$2:D$150,4,FALSE) -> 289631.75 | L12: 1.37823 | U12: Y? | V12: Site assessed as part of SHLAA (Site 163). The site incorporates a range of active uses which are in multiple ownerships (including a church, residential care home and recently completed apartments). Given these uses the site is considered unavailable for development and has been discounted for further assessment/shortlist on this basis. | W12: http://opendatacommunities.org/id/district-council/corby | X12: Corby Borough Council | Y12: 42551 | Z12: 42551
A13: 9 | B13: BFR C10 | C13: Builders yard (rear of Garden Centre) | D13: Rockingham Rd | E13: Corby | F13: NN17 2EP | G13: Corby Borough Council | H13: 100032261489 | I13: OSGB36 | J13: =VLOOKUP(B13,Sheet1!A$2:C$150,3,FALSE) -> 487928.98 | K13: =VLOOKUP(B13,Sheet1!A$2:D$150,4,FALSE) -> 290575.57 | L13: 0.234834 | U13: Y | V13: Site assessed as part of SHLAA (Site 211) but replotted to exclude greenfield element. Brownfield site in existing use through a number of businesses (multiple ownerships) so site has been discounted for further assessment/shortlist on this basis. Site is also below the 0.25ha assessment threshold. | W13: http://opendatacommunities.org/id/district-council/corby | X13: Corby Borough Council | Y13: 42551 | Z13: 42551
A14: 10 | B14: BFR C11 | C14: Land north of | D14: Brunel Rd | E14: Corby | F14: NN17 4JW | G14: Corby Borough Council | H14: 200001047110 | I14: OSGB36 | J14: =VLOOKUP(B14,Sheet1!A$2:C$150,3,FALSE) -> 489170.38 | K14: =VLOOKUP(B14,Sheet1!A$2:D$150,4,FALSE) -> 291096.61 | L14: 0.524854 | U14: Y | V14: Site is located within the Earlstrees Industrial estate and is bounded by industrial buildings with the A6116 to the north. Not considered a suitable location for residential development and discounted for further assessment/shortlist on this basis. | W14: http://opendatacommunities.org/id/district-council/corby | X14: Corby Borough Council | Y14: 42551 | Z14: 42551
A15: 11 | B15: BFR C12 | C15: Universal Salvage site, | D15: Gretton Brook Rd | E15: Corby | F15: NN17 4BA | G15: Corby Borough Council | H15: 10008565976 | I15: OSGB36 | J15: =VLOOKUP(B15,Sheet1!A$2:C$150,3,FALSE) -> 489694.22 | K15: =VLOOKUP(B15,Sheet1!A$2:D$150,4,FALSE) -> 291486.51 | L15: 0.484396 | P15: Not in Public Ownership | U15: Y | V15: Site is located on an industrial site which is separate from adjacent Earlstrees Industrial estate. Not considered a suitable location for residential development and discounted for further assessment/shortlist on this basis. | W15: http://opendatacommunities.org/id/district-council/corby | X15: Corby Borough Council | Y15: 42551 | Z15: 42551
A16: 12 | B16: BFR C14 | C16: Universal Salvage site, | D16: Gretton Brook Rd | E16: Corby | F16: NN17 4BA | G16: Corby Borough Council | H16: 10008565258 | I16: OSGB36 | J16: =VLOOKUP(B16,Sheet1!A$2:C$150,3,FALSE) -> 489619.18 | K16: =VLOOKUP(B16,Sheet1!A$2:D$150,4,FALSE) -> 291362.19 | L16: 0.386041 | P16: Not in Public Ownership | U16: Y | V16: Site is located on an industrial site which is separate from adjacent Earlstrees Industrial estate. Notwithstanding this, the site is not considered a suitable location for residential development and is discounted for further assessment/shortlist on this basis. | W16: http://opendatacommunities.org/id/district-council/corby | X16: Corby Borough Council | Y16: 42551 | Z16: 42551
A17: 13 | B17: BFR C15 | C17: British American Tobacco Land | E17: Corby | F17: NN18 8HU | G17: Corby Borough Council | H17: 10006861330 | I17: OSGB36 | J17: =VLOOKUP(B17,Sheet1!A$2:C$150,3,FALSE) -> 486568.59 | K17: =VLOOKUP(B17,Sheet1!A$2:D$150,4,FALSE) -> 285479.45 | L17: 0.300421 | P17: Public Ownership | U17: Y | V17: Site is located within the boundary of British American Tobacco's land and sandwiched industrial buildings. Considered to be bad neighbours in this respect and not an appropriate location for residential development as site is still in active use. Discounted for further assessment/shortlist on this basis. | W17: http://opendatacommunities.org/id/district-council/corby | X17: Corby Borough Council | Y17: 42551 | Z17: 42551
A18: 14 | B18: BFR C17 | C18: Adjacent to Little Learners Childcare, Our Ladys Roman Catholic Junior And Infant School | D18: off Occupation Road | E18: Corby | F18: NN17 1XS | G18: Corby Borough Council | H18: 100030979064 | I18: OSGB36 | J18: =VLOOKUP(B18,Sheet1!A$2:C$150,3,FALSE) -> 488526.8 | K18: =VLOOKUP(B18,Sheet1!A$2:D$150,4,FALSE) -> 289298.36 | L18: 0.280004 | U18: Y | V18: Site is within the boundary of Our Lady's Infant and Junior school and considered in active use. Discounted for further assessment/shortlist on this basis. | W18: http://opendatacommunities.org/id/district-council/corby | X18: Corby Borough Council | Y18: 42551 | Z18: 42551
A19: 15 | B19: BFR C18 | C19: Former Garage Site | D19: Weldon Rd | E19: Corby | F19: NN17 1UZ | G19: Corby Borough Council | H19: 10024042922 | I19: OSGB36 | J19: =VLOOKUP(B19,Sheet1!A$2:C$150,3,FALSE) -> 489672.02 | K19: =VLOOKUP(B19,Sheet1!A$2:D$150,4,FALSE) -> 288671.47 | L19: 0.252413 | M19: Not Permissioned | U19: Previously assessed through SHLAA as site 363 | V19: Site is in existing use as a car sales garage and related MOT/workshop uses. Discounted for further assessment/shortlist on this basis as not available for development. Previously assessed through SHLAA as site 363 | W19: http://opendatacommunities.org/id/district-council/corby | X19: Corby Borough Council | Y19: 42551 | Z19: 42551
A20: 16 | B20: BFR C19 | C20: Garage Court | D20: Swale Close | E20: Corby | F20: NN17 2HZ | G20: Corby Borough Council | H20: 10023800720 | I20: OSGB36 | J20: =VLOOKUP(B20,Sheet1!A$2:C$150,3,FALSE) -> 487496.85 | K20: =VLOOKUP(B20,Sheet1!A$2:D$150,4,FALSE) -> 290306.63 | L20: 0.251459 | U20: Y | V20: Majority of site is in public sector ownership, but a handful of garages are private, therefore considered to be in mutiple ownership. Site discounted from further assessment/shortlist on this basis. | W20: http://opendatacommunities.org/id/district-council/corby | X20: Corby Borough Council | Y20: 42551 | Z20: 42551
A21: 17 | B21: BFR C21 | C21: Car storage site, Willowbrook North | D21: Genner Road | E21: Corby | F21: NN17 5WA | G21: Corby Borough Council | H21: 10024043661 | I21: OSGB36 | J21: =VLOOKUP(B21,Sheet1!A$2:C$150,3,FALSE) -> 490456.05 | K21: =VLOOKUP(B21,Sheet1!A$2:D$150,4,FALSE) -> 290585.67 | L21: 24.785 | N21: Site previously assessed in SHLAA as site 2007 | U21: Y | V21: P/P granted for Erection of a new industiral building - East part of site. Very industrial location which is not considered suitable for residential development. Site discounted from further assessment/shortlist on this basis. | W21: http://opendatacommunities.org/id/district-council/corby | X21: Corby Borough Council | Y21: 42551 | Z21: 42551
A22: 18 | B22: BFR C22 | C22: Maple Fields School | D22: School Place | E22: Corby | F22: NN18 0SG | G22: Corby Borough Council | H22: 200002779285 | I22: OSGB36 | J22: =VLOOKUP(B22,Sheet1!A$2:C$150,3,FALSE) -> 487593.33 | K22: =VLOOKUP(B22,Sheet1!A$2:D$150,4,FALSE) -> 288119.29 | L22: 0.612904 | M22: Not Permissioned | U22: Previously assessed through SHLAA as site 2017 | V22: Site is in existing use as CE Academy (Forest Gate Campus) and not available for development. Previously assessed through SHLAA as site 2017. Discounted for further assessment/shortlist on this basis. | W22: http://opendatacommunities.org/id/district-council/corby | X22: Corby Borough Council | Y22: 42551 | Z22: 42551
A23: 19 | B23: BFR C28 | C23: Land Off | D23: Pen Green Lane | E23: Corby | F23: NN17 4SJ | G23: Corby Borough Council | H23: 10008559881 | I23: OSGB36 | J23: =VLOOKUP(B23,Sheet1!A$2:C$150,3,FALSE) -> 489374.37 | K23: =VLOOKUP(B23,Sheet1!A$2:D$150,4,FALSE) -> 290154.49 | L23: 9.71948 | M23: Not Permissioned | O23: Part of site is likely to be subject to a nomination for Fields in Trust status. Site lies within an Interin HSE Zone. | U23: Previously assessed through SHLAA as site 2045 | V23: Previously assessed through SHLAA as site 2045. This is a predominantly greenfield site which provides a buffer between residential and a nearby industrial area which generates both noise and odour as gauged from a site visit. Site has been discounted for further assessment/shortlist on this basis. | W23: http://opendatacommunities.org/id/district-council/corby | X23: Corby Borough Council | Y23: 42551 | Z23: 42551
A24: 20 | B24: BFR C29 | C24: Evolution Corby | E24: Corby | F24: NN17 1NX | G24: Corby Borough Council | H24: 10006865061 | I24: OSGB36 | J24: =VLOOKUP(B24,Sheet1!A$2:C$150,3,FALSE) -> 488342.99 | K24: =VLOOKUP(B24,Sheet1!A$2:D$150,4,FALSE) -> 288467.67 | L24: 0.630705 | U24: Y | V24: This site has been derived from SHLAA site 2052. Part of this site now benefits from planning permission for town centre redevelopment (13/00363/DPA). Site BFR C29 represents the residual element of the original SHLAA site. However, it is currently unavailable for development due to existing uses and residential development in this location is considered unsuitable so it has been discounted for further assessment/shortlist on this basis | W24: http://opendatacommunities.org/id/district-council/corby | X24: Corby Borough Council | Y24: 42551 | Z24: 42551
A25: 21 | B25: BFR C30 | C25: Centrix Park | E25: Corby | F25: NN17 5DP | G25: Corby Borough Council | H25: 10008565889 | I25: OSGB36 | J25: =VLOOKUP(B25,Sheet1!A$2:C$150,3,FALSE) -> 489813.51 | K25: =VLOOKUP(B25,Sheet1!A$2:D$150,4,FALSE) -> 290720.46 | L25: 14.6765 | N25: Shlaa site 2055. Site formerly has permission for mixed employment use but this has lapsed. | U25: Y | V25: Site is located within the Rockingham Motor Racing Circuit Enterprise Area as allocated for employment uses in the Joint Core Strategy. Site is discounted for further assessment on this basis. | W25: http://opendatacommunities.org/id/district-council/corby | X25: Corby Borough Council | Y25: 42551 | Z25: 42551
A26: 22 | B26: BFR C31 | C26: Cockerell Road | E26: Corby | F26: NN17 5XW | G26: Corby Borough Council | H26: 999000031535 | I26: OSGB36 | J26: =VLOOKUP(B26,Sheet1!A$2:C$150,3,FALSE) -> 489753.82 | K26: =VLOOKUP(B26,Sheet1!A$2:D$150,4,FALSE) -> 289908.19 | L26: 8.95091 | U26: Y | V26: Site is allocated through the Joint Core Strategy (Policy 34 - Land at Cockerell Road, Corby) for Employment purposes (B1/B2/B8). Site has been discounted for further assessment on this basis. | W26: http://opendatacommunities.org/id/district-council/corby | X26: Corby Borough Council | Y26: 42551 | Z26: 42551
A27: 23 | B27: BFR C32 | C27: Genner Road | E27: Corby | F27: NN17 5AE | G27: Corby Borough Council | H27: 100032146212 | I27: OSGB36 | J27: =VLOOKUP(B27,Sheet1!A$2:C$150,3,FALSE) -> 489993.6 | K27: =VLOOKUP(B27,Sheet1!A$2:D$150,4,FALSE) -> 290181.12 | L27: 3.192 | M27: Permissioned | N27: SHLAA site 2057 | U27: Y | V27: Site has planning permission for non-housing use (15/00320/COU - change of use from B2 to B8 to enable surface car storage in conjunction with adjacent sites already benefiting from B8. Forming new ground levels and providing access roads in Tarmac. Closing up former Genner Road to incorporate in the site). Site has been discounted for further assessment/shortlist on this basis. | W27: http://opendatacommunities.org/id/district-council/corby | X27: Corby Borough Council | Y27: 42551 | Z27: 42551
A28: 24 | B28: BFR C33 | C28: Courier Road | E28: Corby | F28: NN17 5BA | G28: Corby Borough Council | H28: 10008565375 | I28: OSGB36 | J28: =VLOOKUP(B28,Sheet1!A$2:C$150,3,FALSE) -> 489445.97 | K28: =VLOOKUP(B28,Sheet1!A$2:D$150,4,FALSE) -> 289339.2 | L28: 0.813094 | N28: Assessed in SHLAA as site 2058 | U28: Y | V28: Site provides a buffer between the retail park and the railway line and is therefore not considered suitable for residential development. Site has been discounted for further assessment/shortlist on this basis. | W28: http://opendatacommunities.org/id/district-council/corby | X28: Corby Borough Council | Y28: 42551 | Z28: 42551
A29: 25 | B29: BFR C34 | C29: Restored Quarry, Genner Road | E29: Corby | F29: NN17 5AE | G29: Corby Borough Council | H29: 100032146134 | I29: OSGB36 | J29: =VLOOKUP(B29,Sheet1!A$2:C$150,3,FALSE) -> 490135 | K29: =VLOOKUP(B29,Sheet1!A$2:D$150,4,FALSE) -> 290217.18 | L29: 1.05504 | M29: Pending Decision | N29: SHLAA Site 2057 | U29: Y | V29: Planning application (reference 15/00320/COU) is pending for change of use from B2 to B8. Site is located on the Willowbrook Industrial estate and is bounded by industrial buildings. Site not considered to provide a suitable residential amenity and has been discounted for further assessment/shortlist on this basis. | W29: http://opendatacommunities.org/id/district-council/corby | X29: Corby Borough Council | Y29: 42551 | Z29: 42551
A30: 26 | B30: BFR C35 | C30: Oakley Road Garage | D30: Oakley Road | E30: Corby | F30: NN18 9NP | G30: Corby Borough Council | H30: 100032146523 | I30: OSGB36 | J30: =VLOOKUP(B30,Sheet1!A$2:C$150,3,FALSE) -> 487926.37 | K30: =VLOOKUP(B30,Sheet1!A$2:D$150,4,FALSE) -> 287577.4 | L30: 0.09125 | U30: Y | V30: Site is below the 0.25ha assessment threshold. Discounted for further assessment/shortlist on this basis. | W30: http://opendatacommunities.org/id/district-council/corby | X30: Corby Borough Council | Y30: 42551 | Z30: 42551
A31: 27 | B31: BFR C36 | C31: Restored Quarry | D31: Steel Road | E31: Corby | F31: NN17 5AE | G31: Corby Borough Council | H31: 200002779280 | I31: OSGB36 | J31: =VLOOKUP(B31,Sheet1!A$2:C$150,3,FALSE) -> 490519.22 | K31: =VLOOKUP(B31,Sheet1!A$2:D$150,4,FALSE) -> 290330.65 | L31: 0.784043 | N31: SHLAA Site 2060 | U31: Y | V31: Site is located on the Willowbrook Industrial estate and is bounded by industrial buildings. Site in current use as a car park for adjacent industrial building. Site not considered to provide a suitable residential amenity and has been discounted for further assessment/shortlist on this basis. | W31: http://opendatacommunities.org/id/district-council/corby | X31: Corby Borough Council | Y31: 42551 | Z31: 42551
A32: 28 | B32: BFR C37 | C32: Pluto Site, Gainsborough Road (part) | D32: Gainsborough Road | E32: Corby | F32: NN18 0RH | G32: Corby Borough Council | H32: 100030982140 | I32: OSGB36 | J32: =VLOOKUP(B32,Sheet1!A$2:C$150,3,FALSE) -> 487813.31 | K32: =VLOOKUP(B32,Sheet1!A$2:D$150,4,FALSE) -> 288097.56 | L32: 0.19406 | U32: Y | V32: Site is below the 0.25ha assessment threshold. It has been discounted for further assessment/shortlist on this basis. | W32: http://opendatacommunities.org/id/district-council/corby | X32: Corby Borough Council | Y32: 42551 | Z32: 42551
A33: 29 | B33: BFR C38 | C33: Corby Motors, George Street / Cottingham Road | D33: George Street / Cottingham Road | E33: Corby | F33: NN17 1QE | G33: Corby Borough Council | H33: 10024042355 | I33: OSGB36 | J33: =VLOOKUP(B33,Sheet1!A$2:C$150,3,FALSE) -> 488051.3 | K33: =VLOOKUP(B33,Sheet1!A$2:D$150,4,FALSE) -> 288840.17 | L33: 0.2537 | U33: Y | V33: Site is in existing retail use and no information to suggest this is to change in near future. Site has been discounted for further assessment/shortlist on this basis | W33: http://opendatacommunities.org/id/district-council/corby | X33: Corby Borough Council | Y33: 42551 | Z33: 42551
A34: 30 | B34: BFR K1 | C34: Lawrences Factory | D34: Gladstone Street | E34: Desborough | F34: NN14 2RL | G34: Kettering Borough Council | H34: 100031060670 | I34: OSGB36 | J34: =VLOOKUP(B34,Sheet1!A$2:C$150,3,FALSE) -> 480220.21 | K34: =VLOOKUP(B34,Sheet1!A$2:D$150,4,FALSE) -> 283437.76 | L34: 1.23194 | M34: Not Permissioned | N34: Site previously assessed as SHLAA site 680. The Council has resolved to grant planning permission for a new food store, subject to a S106 Agreement (pursuant to application KET/2010/0743). | V34: Site previously assessed as SHLAA site 680. The Council has resolved to grant planning permission for a new food store, subject to a S106 Agreement (pursuant to application KET/2010/0743). The site has been determined as unavailable for residential development on this basis and has been discounted for further assessment on this basis. | W34: http://opendatacommunities.org/id/district-council/kettering | X34: Kettering Borough Council | Y34: 42551 | Z34: 42551
A35: 31 | B35: BFR K4 | C35: Factory adjacent to | D35: 52 Lawson Street | E35: Kettering | F35: NN16 8XU | G35: Kettering Borough Council | H35: 10007871808 | I35: OSGB36 | J35: =VLOOKUP(B35,Sheet1!A$2:C$150,3,FALSE) -> 487444.72 | K35: =VLOOKUP(B35,Sheet1!A$2:D$150,4,FALSE) -> 279197.77 | L35: 0.64549 | N35: SHLAA site 738. | U35: Y | V35: Site previously assessed as SHLAA site 738. Site currently in active use as car park/hand car wash/sales and has been discounted on this basis. This is, however, open to review if this use were to stop/the site to become avalable in future. | W35: http://opendatacommunities.org/id/district-council/kettering | X35: Kettering Borough Council | Y35: 42551 | Z35: 42551
A36: 32 | B36: BFR K5 | C36: Ise Garden Centre | D36: Warkton Lane | E36: East of Kettering SUE | F36: NN15 5AA | G36: Kettering Borough Council | H36: 100032143435 | I36: OSGB36 | J36: =VLOOKUP(B36,Sheet1!A$2:C$150,3,FALSE) -> 489528.5 | K36: =VLOOKUP(B36,Sheet1!A$2:D$150,4,FALSE) -> 277994.6 | L36: 0.307949 | U36: Y | V36: Site is in active use as a garden centre and unavailable for development. Discounted from further assessment on this basis. | W36: http://opendatacommunities.org/id/district-council/kettering | X36: Kettering Borough Council | Y36: 42551 | Z36: 42551
A37: 33 | B37: BFR K6 | C37: Cooper's Coaches | D37: Desborough Road | E37: Rothwell | F37: NN14 6JZ | G37: Kettering Borough Council | H37: 10007871821 | I37: OSGB36 | J37: =VLOOKUP(B37,Sheet1!A$2:C$150,3,FALSE) -> 481310.86 | K37: =VLOOKUP(B37,Sheet1!A$2:D$150,4,FALSE) -> 281298.4 | L37: 0.213931 | U37: Y | V37: Site is below the 0.25ha assessment threshold. Discounted from further assessment. | W37: http://opendatacommunities.org/id/district-council/kettering | X37: Kettering Borough Council | Y37: 42551 | Z37: 42551
A38: 34 | B38: BFR K7 | C38: Glendon Ironworks | D38: Sackville Street | E38: Kettering | F38: NN16 9DN | G38: Kettering Borough Council | H38: 100031072561 | I38: OSGB36 | J38: =VLOOKUP(B38,Sheet1!A$2:C$150,3,FALSE) -> 486412.52 | K38: =VLOOKUP(B38,Sheet1!A$2:D$150,4,FALSE) -> 279632.8 | L38: 0.477622 | M38: Not Permissioned | U38: Y | V38: Site is in active use as Billsons Steel Services and unavailable for development. Discounted from further assessment on this basis. | W38: http://opendatacommunities.org/id/district-council/kettering | X38: Kettering Borough Council | Y38: 42551 | Z38: 42551
A39: 35 | B39: BFR K9 | C39: Geddington Sawmill | D39: Grafton Road | E39: Geddington | F39: NN14 1AJ | G39: Kettering Borough Council | H39: 200002140834 | I39: OSGB36 | J39: =VLOOKUP(B39,Sheet1!A$2:C$150,3,FALSE) -> 489723.21 | K39: =VLOOKUP(B39,Sheet1!A$2:D$150,4,FALSE) -> 282711.02 | L39: 1.68837 | M39: Not Permissioned | N39: SHLAA Site 1075 | U39: Y | V39: Site previously assessed as SHLAA site 1075. Part of site is in active use as premises of English Hardwoods. Residual area beyond this is under tree-cover and does not meet the definition of PDL. Site has been excluded from further assessment on this basis. | W39: http://opendatacommunities.org/id/district-council/kettering | X39: Kettering Borough Council | Y39: 42551 | Z39: 42551
A40: 36 | B40: BFR K10 | C40: Land at Barton Hall | D40: Barton Road | E40: Kettering | F40: NN15 5NW | G40: Kettering Borough Council | H40: 10007874717 | I40: OSGB36 | J40: =VLOOKUP(B40,Sheet1!A$2:C$150,3,FALSE) -> 488725.12 | K40: =VLOOKUP(B40,Sheet1!A$2:D$150,4,FALSE) -> 277365.09 | L40: 3.05251 | N40: SHLAA site 1117 | P40: Not in Public Ownership | U40: Y | V40: Site previously assessed as SHLAA site 1117. Site is in active use as Barton Hall Hotel & restaurant. Residual area beyond ths forms the hotel grounds and does not meet the definition of PDL. Site has been excluded from further assessment on this basis. | W40: http://opendatacommunities.org/id/district-council/kettering | X40: Kettering Borough Council | Y40: 42551 | Z40: 42551
A41: 37 | B41: BFR K11 | C41: Land At Ashley Road | D41: Ashley Road | E41: Stoke Albany | F41: LE16 8PL | G41: Kettering Borough Council | H41: 10007869458 | I41: OSGB36 | J41: =VLOOKUP(B41,Sheet1!A$2:C$150,3,FALSE) -> 480442.17 | K41: =VLOOKUP(B41,Sheet1!A$2:D$150,4,FALSE) -> 288146.62 | L41: 1.69277 | M41: Not Permissioned | N41: Potential housing allocation in Kettering Borough Council's Part 2 Local Plan Planning permission exists for 2 dwellings in the vicinity of the existing farm but the assessment polygon for site K11 excludes these (KET/2012/0715 | P41: Not in Public Ownership | V41: Previously assessed through SHLAA as site 1157. Land is occupied by a farm in active use with modern agricultural barns. Swathes of the residual area constitute greenfield land. Removed from shortlist on this basis. | W41: http://opendatacommunities.org/id/district-council/kettering | X41: Kettering Borough Council | Y41: 42551 | Z41: 42551
...

Sheet 3.Link to Assessment Criteria
A1: Link to Criteria against which shortlisted (non-permissioned) sites have been assessed: | B1: http://www.nnjpu.org.uk/publications/docdetail.asp?docid=1577
A3: Sites passing the intial tests of suitability (following their review relative to the flow chart at Tab 1 of this workbook) have been subject to further assessment relative to a list of criteria designed to gauge of potential constraints in Policy terms. These criteria have been developed in relation to national and local planning policy considerations and alongside a local Brownfield Register working group established to faciliate development of this Pilot Register and factors it needed consider. This incorporated partners both internal and external to the Council, including representatives from the four partner authorities of North Northamptonshire covering areas including Planning Policy and Environental Health, Flood and Water Management, Heritage and Transport at the County Council as well as external bodies such as the Northamptonshire Biodiversity Records Centre. Sites which do not benefit from an existing consent for housing development (defined as an extant permission or local plan allocation) were subject to assessment relative to the 17 criteria outlined.

Sheet 4.Register of Shortlisted Sites
A1: The data within this Tab constitutes North Northamptonshire's Pilot Register of Brownfield sites shortlisted for development following review and assessent (see Tabs 1 and 6 for further information). Please note that columns highlighted in Yellow denotes local data the NNJPU has compiled which is above the requirements set by DCLG.
A2: 1 | B2: 2 | C2: 3 | D2: 4 | E2: 5 | F2: 6 | G2: 7 | H2: 8 | I2: 9 | J2: 10 | K2: 11 | L2: 12 | M2: 13 | N2: 14 | O2: 15 | P2: 16 | Q2: 17 | R2: 18 | S2: 19 | T2: 20 | U2: 21 | V2: 22 | W2: 23 | X2: 24 | Y2: 25 | Z2: 26 | AA2: 27 | AB2: 28 | AC2: 29 | AD2: 30 | AE2: 31 | AF2: 32 | AG2: 33 | AH2: 34
A3: JPU | B3: Mandatory | C3: Mandatory | D3: Optional | E3: JPU | F3: JPU | G3: JPU | H3: Optional | J3: Mandatory | K3: Mandatory | L3: Mandatory | M3: Mandatory | N3: Mandatory | O3: JPU to delete | Q3: Optional | R3: Optional | S3: Mandatory | T3: Optional | U3: Mandatory | V3: Mandatory | X3: Optional | Y3: Optional | AB3: Mandatory | AC3: Mandatory | AD3: Mandatory | AE3: Mandatory
A4: Entry No. | B4: SiteReference | C4: SiteName | D4: SiteAddress | E4: PostTown | F4: PostCode | G4: Local Authority Area | H4: UPRN | J4: CoordinateReferenceSystem | K4: GeoX | L4: GeoY | M4: Hectares | N4: PlanningStatus | O4: Permissioned? | P4: Housing allocation? | Q4: PlanningHistory | R4: Constraints | S4: OwnershipStatus | T4: Owners | U4: HousingEstimate | V4: MinHomes | W4: CHECK | X4: Events | Y4: Notes 1 | Z4: Notes 2 | AA4: Notes 3 | AB4: OrganisationURI | AC4: OrganisationLabel | AD4: FirstAddedDate | AE4: LastUpdatedDate | AF4: SHLAA Ref | AG4: Disclaimer | AH4: Link to LPA Online Mapping
A5: 1 | B5: BFR C1 | C5: Car Park | D5: Pytchley Court | E5: Corby | F5: NN17 2PL | G5: Corby Borough Council | H5: 100032261466 | I5: 100032261466 | J5: OSGB36 | K5: 486899.83 | L5: 289698 | M5: 0.379256 | N5: Not Permissioned | O5: N | Q5: Previously proposed as a Housing Allocation (HA21) for 13 dwellings in the Proposed Site Specific Allocations Development Plan Document as consulted upon by Corby Borough Council in September 2009 (Saved Local Plan Policy R2). | R5: See tabs '6.Shortlisted Site Assessments' and '7. Site Assessment Summaries' within this workbook for further information. | S5: Public Ownership | T5: Corby Borough Council and Private owners | U5: 9 | V5: 9 | W5: =IF(V5=U5,"Y","N") -> Y | X5: Previously assessed through SHLAA as site 13 | Y5: Link to SHLAA Site Asssement Results: http://www.nnjpu.org.uk/publications/docdetail.asp?docid=1323 | Z5: See County Council map for additional details on features which may affect site: http://maps.northamptonshire.gov.uk/ | AB5: http://opendatacommunities.org/id/district-council/corby | AC5: Corby Borough Council | AD5: 42551 | AE5: 42551 | AF5: 13 | AG5: This site has been identifed through a process developed to identify sites for a Pilot Brownfield Register for the North Northamptonshire area. Unless already benefitting from an existing consent for housing-led development (locally defined as extant planning permissions or local plan allocation), identification of a site on this register does NOT constitute Permission in Principle at the current time. | AH5: n/a
A6: 2 | B6: BFR C16 | C6: Garage Court | D6: Lindisfarne Road | E6: Corby | F6: NN17 2HW | G6: Corby Borough Council | H6: 10023798475 | I6: 10023798481 | J6: OSGB36 | K6: 487568.06 | L6: 290137.73 | M6: 0.283413 | N6: Not Permissioned | O6: N | R6: Majority of site is in public sector ownership but the remaining garages are private. Site considered in mutiple ownership as a result. See also: http://maps.northamptonshire.gov.uk/ | S6: Public Ownership | T6: Corby Borough Council and Private owners | U6: 11 | V6: 11 | W6: =IF(V6=U6,"Y","N") -> Y | X6: Previously assessed through SHLAA as site 348 | Y6: Link to SHLAA Site Asssement Results: http://www.nnjpu.org.uk/publications/docdetail.asp?docid=1323 | Z6: See County Council map for additional details on features which may affect site: http://maps.northamptonshire.gov.uk/ | AB6: http://opendatacommunities.org/id/district-council/corby | AC6: Corby Borough Council | AD6: 42551 | AE6: 42551 | AF6: 348 | AG6: This site has been identifed through a process developed to identify sites for a Pilot Brownfield Register for the North Northamptonshire area. Unless already benefitting from an existing consent for housing-led development (locally defined as extant planning permissions or local plan allocation), identification of a site on this register does NOT constitute Permission in Principle at the current time. | AH6: n/a
A7: 3 | B7: BFR C20 | C7: Maple House | D7: Canada Square | E7: Corby | F7: NN18 9HU | G7: Corby Borough Council | H7: 100030976167 | I7: 100030976167 | J7: OSGB36 | K7: 487035.92 | L7: 287221.71 | M7: 0.419532 | N7: Not Permissioned | O7: N | Q7: Pre-application discussions held previously by the owners and council held with a view to bringing site forward for Housing use. | R7: TPO's exist on the site (TPO/2014/5). See tabs '6.Shortlisted Site Assessments' and '7. Site Assessment Summaries' within this workbook for further information. See also: http://maps.northamptonshire.gov.uk/ | S7: Public Ownership | T7: Northamptonshire County Council | U7: 11 | V7: 11 | W7: =IF(V7=U7,"Y","N") -> Y | X7: Previously assessed through SHLAA as site 2001 | Y7: Link to SHLAA Site Asssement Results: http://www.nnjpu.org.uk/publications/docdetail.asp?docid=1327 | Z7: See County Council map for additional details on features which may affect site: http://maps.northamptonshire.gov.uk/ | AB7: http://opendatacommunities.org/id/district-council/corby | AC7: Corby Borough Council | AD7: 42551 | AE7: 42551 | AF7: 2001 | AG7: This site has been identifed through a process developed to identify sites for a Pilot Brownfield Register for the North Northamptonshire area. Unless already benefitting from an existing consent for housing-led development (locally defined as extant planning permissions or local plan allocation), identification of a site on this register does NOT constitute Permission in Principle at the current time. | AH7: n/a
A8: 4 | B8: BFR C23 | C8: Former Our Lady Pope John School | D8: Tower Hill Road | E8: Corby | F8: NN18 0TF | G8: Corby Borough Council | H8: 10006865903 | I8: 10006865903 | J8: OSGB36 | K8: 486184.14 | L8: 287701.29 | M8: 2.11051 | N8: Permissioned | O8: Y | Q8: Site has outline planning permission for 95 dwellings (11/00215/OUT) Details are available by searching here: https://publicaccess.corby.gov.uk/publicaccess/ | R8: N/A | S8: Not in Public Ownership | U8: 95 | V8: 95 | W8: =IF(V8=U8,"Y","N") -> Y | X8: Previously assessed through SHLAA as site 2020 | Y8: Link to SHLAA Site Asssement Results: http://www.nnjpu.org.uk/publications/docdetail.asp?docid=1323 | AB8: http://opendatacommunities.org/id/district-council/corby | AC8: Corby Borough Council | AD8: 42551 | AE8: 42551 | AF8: 2020 | AG8: This site has been identifed through a process developed to identify sites for a Pilot Brownfield Register for the North Northamptonshire area. Unless already benefitting from an existing consent for housing-led development (locally defined as extant planning permissions or local plan allocation), identification of a site on this register does NOT constitute Permission in Principle at the current time. | AH8: n/a
A9: 5 | B9: BFR C24 | C9: Railway Station Interchange | D9: Station Road | E9: Corby | F9: NN17 1NA | G9: Corby Borough Council | H9: 10024041463 | I9: 200002239544 | J9: OSGB36 | K9: 489243.38 | L9: 288612.34 | M9: 0.805703 | N9: Not Permissioned | O9: N | Q9: Site is subject to a Starter Homes bid which is currently with the HCA for consideration. | R9: See tabs '6.Shortlisted Site Assessments' and '7. Site Assessment Summaries' within this workbook for further information. See also: http://maps.northamptonshire.gov.uk/ | S9: Public Ownership | T9: HCA | U9: 40 | V9: 29 | W9: =IF(V9=U9,"Y","N") -> N | X9: Previously assessed through SHLAA as site 2030. The site has been subject to a bid to the HCA for Starter Homes funding and it was assumed that 40 dwellings could be delivered on the site. However, as part of an urban design review, consideration was also made of a mix of uses being deployed on site which reduces the developable area for housing (assuming 50dph)an alternative yield of 29 dwellings has been assumed. | Y9: Link to SHLAA Site Asssement Results: http://www.nnjpu.org.uk/publications/docdetail.asp?docid=1324 | Z9: See County Council map for additional details on features which may affect site: http://maps.northamptonshire.gov.uk/ | AB9: http://opendatacommunities.org/id/district-council/corby | AC9: Corby Borough Council | AD9: 42551 | AE9: 42551 | AF9: 2030 | AG9: This site has been identifed through a process developed to identify sites for a Pilot Brownfield Register for the North Northamptonshire area. Unless already benefitting from an existing consent for housing-led development (locally defined as extant planning permissions or local plan allocation), identification of a site on this register does NOT constitute Permission in Principle at the current time. | AH9: n/a
A10: 6 | B10: BFR C25 | C10: Beanfield School | D10: off Glastonbury Road | E10: Corby | F10: NN18 0DJ | G10: Corby Borough Council | H10: 10024043772 | I10: 10024043772 | J10: OSGB36 | K10: 486311.62 | L10: 288536.61 | M10: 3.99481 | N10: Permissioned | O10: Y | Q10: Site has outline planning permission for 96 dwellings (13/00242/OUT) Details are available by searching here: https://publicaccess.corby.gov.uk/publicaccess/ | R10: N/A | S10: Public Ownership | T10: Northamptonshire County Council | U10: 96 | V10: 96 | W10: =IF(V10=U10,"Y","N") -> Y | X10: Previously assessed through SHLAA as site 2035 | Y10: Link to SHLAA Site Asssement Results: http://www.nnjpu.org.uk/publications/docdetail.asp?docid=1325 | AB10: http://opendatacommunities.org/id/district-council/corby | AC10: Corby Borough Council | AD10: 42551 | AE10: 42551 | AF10: 2035 | AG10: This site has been identifed through a process developed to identify sites for a Pilot Brownfield Register for the North Northamptonshire area. Unless already benefitting from an existing consent for housing-led development (locally defined as extant planning permissions or local plan allocation), identification of a site on this register does NOT constitute Permission in Principle at the current time. | AH10: n/a
A11: 7 | B11: BFR C26 | C11: Parkland Gateway | D11: George Street | E11: Corby | F11: NN17 1QG | G11: Corby Borough Council | H11: 10008560050 | I11: 10008560050 | J11: OSGB36 | K11: 488000.75 | L11: 288724.53 | M11: 0.701286 | N11: Not Permissioned | O11: N | Q11: The site is subject to a full planning permission for "for cinema building comprising gross floor area of approximately 3,460m2 and incorporating 6 screen cinema in approximately 1,950m2 together with 2/3 restaurant/cafes in approximately 745m2 together with new vehicular access to George Street and car parking are to accommodate up to approximately 210 cars and servicing with new soft and hard landscaping and ancillary works " (11/00164/DPA). Within this a masterplan exists which covers site C26 which illustrates the potential for housing at this site but which is not a feature of the extant consent. Notwithstanding this, the masterplan serves as a basis for how the site could be brought forward and should be used accordingly in any forthcoming proposals. Details are available by searching here: https://publicaccess.corby.gov.uk/publicaccess/ | R11: TPO's exist on the site (TPO/50/4). See tabs '6.Shortlisted Site Assessments' and '7. Site Assessment Summaries' within this workbook for further information. See also: http://maps.northamptonshire.gov.uk/ | S11: Public Ownership | T11: HCA | U11: 63 | V11: 40 | W11: =IF(V11=U11,"Y","N") -> N | X11: Previously assessed through SHLAA as site 2037. The site has been subject to a bid to the HCA for Starter Homes funding and it was assumed that 40 dwellings could be delivered on the site. However, as part of an urban design review, consideration was also made of higher densities (flats) being deployed on site and assuming 100dph an alternative yield of 63 dwellings has been assumed. | Y11: Link to SHLAA Site Asssement Results: http://www.nnjpu.org.uk/publications/docdetail.asp?docid=1326 | Z11: See County Council map for additional details on features which may affect site: http://maps.northamptonshire.gov.uk/ | AB11: http://opendatacommunities.org/id/district-council/corby | AC11: Corby Borough Council | AD11: 42551 | AE11: 42551 | AF11: 2037 | AG11: This site has been identifed through a process developed to identify sites for a Pilot Brownfield Register for the North Northamptonshire area. Unless already benefitting from an existing consent for housing-led development (locally defined as extant planning permissions or local plan allocation), identification of a site on this register does NOT constitute Permission in Principle at the current time. | AH11: n/a
A12: 8 | B12: BFR C27 | C12: Kingswood School | D12: Gainsborough Road | E12: Corby | F12: NN18 9NQ | G12: Corby Borough Council | H12: 100032146529 | I12: 100032146553 | J12: OSGB36 | K12: 486108.26 | L12: 287407.74 | M12: 1.66549 | N12: Permissioned | O12: Y | Q12: Site has outline planning permission for 90 dwellings (13/00241/OUT) Details are available by searching here: https://publicaccess.corby.gov.uk/publicaccess/ | R12: N/A | S12: Public Ownership | T12: Northamptonshire County Council | U12: 90 | V12: 90 | W12: =IF(V12=U12,"Y","N") -> Y | X12: Previously assessed through SHLAA as site 2039 | Y12: Link to SHLAA Site Asssement Results: http://www.nnjpu.org.uk/publications/docdetail.asp?docid=1327 | AB12: http://opendatacommunities.org/id/district-council/corby | AC12: Corby Borough Council | AD12: 42551 | AE12: 42551 | AF12: 2039 | AG12: This site has been identifed through a process developed to identify sites for a Pilot Brownfield Register for the North Northamptonshire area. Unless already benefitting from an existing consent for housing-led development (locally defined as extant planning permissions or local plan allocation), identification of a site on this register does NOT constitute Permission in Principle at the current time. | AH12: n/a
A13: 9 | B13: BFR E26 | C13: 7/Factory/Land Corner Of Station Road And Church Street | D13: Church Street | E13: Irthlingborough | F13: NN9 5SN | G13: East Northamptonshire Council | H13: 10001192592 | I13: 10001192592 | J13: OSGB36 | K13: 494797.52 | L13: 270705.51 | M13: 0.520886 | N13: Permissioned | O13: Y | Q13: Site has consent for Erection of 2No. retail units (1No. class A1 retail unit of 930 square metres and 1No. mixed use class A1/A3 unit of 130.55 square metres) and 20No. two storey dwellings with associated access, parking and landscaping (15/00990/FUL). Details are available by searching here: http://pawebsrv.east-northamptonshire.gov.uk/online-applications/search.do?action=simple&searchType=Application | R13: N/A | S13: Not in Public Ownership | T13: Paragon Property Developments | U13: 20 | V13: 20 | W13: =IF(V13=U13,"Y","N") -> Y | AB13: http://opendatacommunities.org/id/district-council/east-northamptonshire | AC13: East Northamptonshire Council | AD13: 42551 | AE13: 42551 | AF13: n/a | AG13: This site has been identifed through a process developed to identify sites for a Pilot Brownfield Register for the North Northamptonshire area. Unless already benefitting from an existing consent for housing-led development (locally defined as extant planning permissions or local plan allocation), identification of a site on this register does NOT constitute Permission in Principle at the current time. | AH13: http://lv3.east-northamptonshire.gov.uk/LocalView/Sites/localview/
A14: 10 | B14: BFR E56 | C14: 77 Kimbolton Road | D14: Kimbolton Road | E14: Higham Ferrers | F14: NN10 8HL | G14: East Northamptonshire Council | H14: 100032138138 | I14: 100032138138 | J14: OSGB36 | K14: 496307.57 | L14: 268899.7 | M14: 0.289833 | N14: Permissioned | O14: Y | Q14: 09/00405/REM (Reserved Matters: Landscaping associated with demolition of existing buildings and redevelopment of twenty four dwellings with associated external works pursuant to outline planning permission EN/04/02158/OUT dated 21/3/06). Site has been cleared already and available for redevelopment. Details are available by searching here: http://pawebsrv.east-northamptonshire.gov.uk/online-applications/search.do?action=simple&searchType=Application | R14: N/A | S14: Not in Public Ownership | T14: Seagrave Developments | U14: 24 | V14: 24 | W14: =IF(V14=U14,"Y","N") -> Y | X14: Site has been cleared already and available for redevelopment. | AB14: http://opendatacommunities.org/id/district-council/east-northamptonshire | AC14: East Northamptonshire Council | AD14: 42551 | AE14: 42551 | AF14: n/a | AG14: This site has been identifed through a process developed to identify sites for a Pilot Brownfield Register for the North Northamptonshire area. Unless already benefitting from an existing consent for housing-led development (locally defined as extant planning permissions or local plan allocation), identification of a site on this register does NOT constitute Permission in Principle at the current time. | AH14: http://lv3.east-northamptonshire.gov.uk/LocalView/Sites/localview/
A15: 11 | B15: BFR E65 | C15: Factory Premises | D15: Oakley Road | E15: Rushden | F15: NN10 6UR | G15: East Northamptonshire Council | H15: 10001194760 | I15: 10001194760 | J15: OSGB36 | K15: 495068.93 | L15: 267111.33 | M15: 0.294131 | N15: Not Permissioned | O15: N | Q15: Site of the former GBD Reproduction Furniture. Previous discussion were held regarding development of the site through application 09/00905/OUT which was refused. This application entailed “Demolition of an existing factory. New build development of 14 flats and 11 houses in a combination of 2, 2.5 and 3 storey blocks with associated parking and landscaping” The site is subject to a recent bid by the Council to access Starter Home funding. This bid assumed a site developent capacity of 15 dwellings. | R15: See tabs '6.Shortlisted Site Assessments' and '7. Site Assessment Summaries' within this workbook for further information. See also: http://lv3.east-northamptonshire.gov.uk/LocalView/Sites/localview/ | S15: Not in Public Ownership | T15: Privately owned | U15: 15 | V15: 14 | W15: =IF(V15=U15,"Y","N") -> N | X15: The site has been subject to a bid to the HCA for Starter Homes funding and it was assumed that 15 dwellings could be delivered on the site. The site was analysed by the JPU's urban design team and an altenative capacity of 14 dwellings was proposed (and used as a minimum capacity assumption) reflective of an identified opportunity to improve access to the adjecent Green Infrastructure corridor which is possible both from Washbrook Road and to the rear of site. This would lead to a lower land take which has facilitated this minimum housing figure. | Y15: Derelict Industrial Site where the former "GBD Reproduction Furniture" warehouse was located. | Z15: See County Council map for additional details on features which may affect site: http://maps.northamptonshire.gov.uk/ | AB15: http://opendatacommunities.org/id/district-council/east-northamptonshire | AC15: East Northamptonshire Council | AD15: 42551 | AE15: 42551 | AF15: n/a | AG15: This site has been identifed through a process developed to identify sites for a Pilot Brownfield Register for the North Northamptonshire area. Unless already benefitting from an existing consent for housing-led development (locally defined as extant planning permissions or local plan allocation), identification of a site on this register does NOT constitute Permission in Principle at the current time. | AH15: http://lv3.east-northamptonshire.gov.uk/LocalView/Sites/localview/
A16: 12 | B16: BFR E66 | C16: High Beech | D16: 8 Hayway | E16: Rushden | F16: NN10 6ES | G16: East Northamptonshire Council | H16: 100031032763 | I16: 100031032763 | J16: OSGB36 | K16: 495591.94 | L16: 267572.4 | M16: 0.384095 | N16: Permissioned | O16: Y | Q16: 14/02228/FUL - Demolition of existing building and erection of five detached dwellings pursuant to planning permission 13/01585/FUL. Details are available by searching here: http://pawebsrv.east-northamptonshire.gov.uk/online-applications/search.do?action=simple&searchType=Application | R16: N/A | S16: Unknown | T16: Likely privately owned. | U16: 5 | V16: 5 | W16: =IF(V16=U16,"Y","N") -> Y | X16: 14/02228/FUL - Extant planning permission for 5 dwellings. | Y16: Link to East Nortamptonshire's Planning Application Search Portal: http://pawebsrv.east-northamptonshire.gov.uk/online-applications/search.do?action=simple&searchType=Application | AB16: http://opendatacommunities.org/id/district-council/east-northamptonshire | AC16: East Northamptonshire Council | AD16: 42551 | AE16: 42551 | AF16: n/a | AG16: This site has been identifed through a process developed to identify sites for a Pilot Brownfield Register for the North Northamptonshire area. Unless already benefitting from an existing consent for housing-led development (locally defined as extant planning permissions or local plan allocation), identification of a site on this register does NOT constitute Permission in Principle at the current time. | AH16: http://lv3.east-northamptonshire.gov.uk/LocalView/Sites/localview/
A17: 13 | B17: BFR E67 | C17: Factory | D17: Upper Queen Street | E17: Rushden | F17: NN10 0DU | G17: East Northamptonshire Council | H17: 10093005834 | I17: 10093005834 | J17: OSGB36 | K17: 496208.16 | L17: 267072.72 | M17: 0.736937 | N17: Permissioned | O17: Y | Q17: 14/00683/FUL - Erection of forty seven dwellings with associated access road including demolition of extensions and sheds to the rear of listed building. Details are available by searching here: http://pawebsrv.east-northamptonshire.gov.uk/online-applications/search.do?action=simple&searchType=Application | S17: Unknown | T17: Likely privately owned. | U17: 47 | V17: 47 | W17: =IF(V17=U17,"Y","N") -> Y | X17: 14/00683/FUL - Extant planning permission for 47 dwellings | Y17: Link to East Nortamptonshire's Planning Application Search Portal: http://pawebsrv.east-northamptonshire.gov.uk/online-applications/search.do?action=simple&searchType=Application | Z17: Buildings on site are Grade II Factory Premises. | AB17: http://opendatacommunities.org/id/district-council/east-northamptonshire | AC17: East Northamptonshire Council | AD17: 42551 | AE17: 42551 | AF17: n/a | AG17: This site has been identifed through a process developed to identify sites for a Pilot Brownfield Register for the North Northamptonshire area. Unless already benefitting from an existing consent for housing-led development (locally defined as extant planning permissions or local plan allocation), identification of a site on this register does NOT constitute Permission in Principle at the current time. | AH17: http://lv3.east-northamptonshire.gov.uk/LocalView/Sites/localview/
